BEGIN:VCALENDAR
VERSION:2.0
CALSCALE:GREGORIAN
PRODID:UW-Madison-Physics-Events
BEGIN:VEVENT
SEQUENCE:0
UID:UW-Physics-Event-2857
DTSTART:20121112T180000Z
DURATION:PT1H0M0S
DTSTAMP:20260420T021811Z
LAST-MODIFIED:20121109T212659Z
LOCATION:1310 Sterling Hall
SUMMARY:RMP-Flutter-Induced Plasma Transport in DIII-D\, Plasma Physic
 s (Physics/ECE/NE 922) Seminar\, James Callen\, University of Wisconsi
 n-Madison
DESCRIPTION:
URL:https://www.physics.wisc.edu/events/?id=2857
END:VEVENT
END:VCALENDAR
