BEGIN:VCALENDAR
VERSION:2.0
CALSCALE:GREGORIAN
PRODID:UW-Madison-Physics-Events
BEGIN:VEVENT
SEQUENCE:0
UID:UW-Physics-Event-2948
DTSTART:20130208T201500Z
DTEND:20130208T211500Z
DTSTAMP:20260420T004532Z
LAST-MODIFIED:20130205T193215Z
LOCATION:5280 Chamberlin Hall
SUMMARY:Sister Higgs\, Theory Seminar (High Energy/Cosmology)\, ï»¿
 ï»¿Daniele Alves\, Fermilab
DESCRIPTION:I will discuss some of the implications of the recently me
 asured Higgs mass for Supersymmetry. In the MSSM\, a Higgs mass of 125
  GeV can only be accommodated with significant fine tuning. Extending 
 the MSSM Higgs sector can alleviate fine tuning\, but its simplest ext
 ension (the NMSSM) requires pushing some parameters to non-perturbativ
 e values. In this talk I will discuss extensions of the MSSM Higgs sec
 tor in an attempt to accommodate the Higgs mass in a natural and pertu
 rbative way. I will also discuss its phenomenology implications.
URL:https://www.physics.wisc.edu/events/?id=2948
END:VEVENT
END:VCALENDAR
