BEGIN:VCALENDAR
VERSION:2.0
CALSCALE:GREGORIAN
PRODID:UW-Madison-Physics-Events
BEGIN:VEVENT
SEQUENCE:0
UID:UW-Physics-Event-2951
DTSTART:20130514T210000Z
DURATION:PT1H0M0S
DTSTAMP:20260419T225556Z
LAST-MODIFIED:20130513T003829Z
LOCATION:5280 Chamberlin Hall
SUMMARY:The mu term in G2-MSSM\, theoretical origin and phenomenologic
 al applications\, Theory Seminar (High Energy/Cosmology)\, Ran Lu\, Un
 iversity of Michigan
DESCRIPTION:G2-MSSM is a low energy effective model motivated by G2 co
 mpactification of M theory. I will discuss a new approach to generate 
 the mu term in G2-MSSM using the discrete symmetry of the G2 manifold\
 , and review the phenomenological implication with this improved under
 standing of the model.
URL:https://www.physics.wisc.edu/events/?id=2951
END:VEVENT
END:VCALENDAR
