BEGIN:VCALENDAR
VERSION:2.0
CALSCALE:GREGORIAN
PRODID:UW-Madison-Physics-Events
BEGIN:VEVENT
SEQUENCE:0
UID:UW-Physics-Event-2958
DTSTART:20130321T193000Z
DTEND:20130321T203000Z
DTSTAMP:20260420T004922Z
LAST-MODIFIED:20130130T043136Z
LOCATION:4274 Chamberlin Hall
SUMMARY:TBA\, NPAC (Nuclear/Particle/Astro/Cosmo) Forum\, Thad Walker\
 , U. Wisconsin-Madison
DESCRIPTION:
URL:https://www.physics.wisc.edu/events/?id=2958
END:VEVENT
END:VCALENDAR
