BEGIN:VCALENDAR
VERSION:2.0
CALSCALE:GREGORIAN
PRODID:UW-Madison-Physics-Events
BEGIN:VEVENT
SEQUENCE:0
UID:UW-Physics-Event-2963
DTSTART:20130207T213000Z
DTEND:20130207T230000Z
DTSTAMP:20260420T004849Z
LAST-MODIFIED:20130206T151948Z
LOCATION:4421 Sterling Hall
SUMMARY:Galactic Winds: Lessons from Nearby Starbursts\, Astronomy Col
 loquium\, Jay Gallagher\, UW Astronomy Prof and Chair
DESCRIPTION:Gas outflows from galaxies are a key aspect of the feedbac
 k process. Winds act as a cosmic safety valve to limit star formation 
 while also injecting metals\, magnetic fields\, and cosmic rays along 
 with fast moving gas into their surroundings.  They also may provide a
  path for the escape of Lyman continuum photons through the hot\, high
 ly ionized wind material.  Studies of 3 nearby classic starburst galax
 ies with winds\, M82\, NGC 253\, and NGC 1569 offer new insights into 
 how how starburst winds are launched  and the conditions under which t
 hey break out.  I will review our work on this topic that has been lar
 gely based on observations obtained with WIYN and Hubble Space Telesco
 pe\, and also briefly describe work in progress with Ellen Zweibel and
  Tova Yoast-Hull to better understand cosmic ray interactions in these
  types of systems. 
URL:https://www.physics.wisc.edu/events/?id=2963
END:VEVENT
END:VCALENDAR
