BEGIN:VCALENDAR
VERSION:2.0
CALSCALE:GREGORIAN
PRODID:UW-Madison-Physics-Events
BEGIN:VEVENT
SEQUENCE:0
UID:UW-Physics-Event-2980
DTSTART:20130423T210000Z
DURATION:PT1H0M0S
DTSTAMP:20260420T020349Z
LAST-MODIFIED:20130422T023419Z
LOCATION:5280 Chamberlin Hall
SUMMARY:Flavor and CP violation in Higgs Decays\, Theory Seminar (High
  Energy/Cosmology)\, Roni Harnik\, Fermilab
DESCRIPTION:I will discuss new ways to probe the couplings of the rece
 ntly discovered Higgs boson. In addition to measuring the couplings of
  the Higgs in its standard model channels we can search for decay chan
 nels that are forbidden in the SM. I will focus on flavor and CP viola
 ting decays.
URL:https://www.physics.wisc.edu/events/?id=2980
END:VEVENT
END:VCALENDAR
