BEGIN:VCALENDAR
VERSION:2.0
CALSCALE:GREGORIAN
PRODID:UW-Madison-Physics-Events
BEGIN:VEVENT
SEQUENCE:0
UID:UW-Physics-Event-2983
DTSTART:20130313T193000Z
DURATION:PT1H0M0S
DTSTAMP:20260420T004855Z
LAST-MODIFIED:20130227T170433Z
LOCATION:5310 Chamberlin Hall
SUMMARY:Scott Converse\, Careers for Physicists\, Scott Converse\, UW-
 Madison\, School of Business
DESCRIPTION:Please join us for a conversation on "Careers for Physicis
 ts" with Scott Converse.  Scott got his undergraduate degree in physic
 s from UW-Eau Claire and had originally planned on either teaching hig
 h-school physics\, or going on to do graduate work that would prepare 
 him for a career in astrophysics.  Quickly that plan changed and he en
 ded up working in software development\, IT management\, project manag
 ement\, business management\, and eventually teaching adult profession
 als.  Scott received his MBA from UW-Madison is currently the director
  of project management and process improvement programs for the Wiscon
 sin School of Business.  He also oversees the Technical Leadership\, a
  joint effort between the College of Engineering and Wisconsin School 
 of Business that was created to help the technical professional succes
 sfully transition into a successful manager.  His bio can be found at:
  <a href="http://bus.wisc.edu/faculty/scott-converse">http://bus.wisc.
 edu/faculty/scott-converse</a> 
URL:https://www.physics.wisc.edu/events/?id=2983
END:VEVENT
END:VCALENDAR
