BEGIN:VCALENDAR
VERSION:2.0
CALSCALE:GREGORIAN
PRODID:UW-Madison-Physics-Events
BEGIN:VEVENT
SEQUENCE:0
UID:UW-Physics-Event-2987
DTSTART:20130319T170500Z
DURATION:PT1H0M0S
DTSTAMP:20260420T020441Z
LAST-MODIFIED:20130307T221449Z
LOCATION:4274 Chamberlin (refreshments will be served)
SUMMARY:The textual structure of REM dreaming\, Chaos & Complex System
 s Seminar\, Art Schmaltz\, Prairie State College
DESCRIPTION:The human brain during REM dreaming is a singular neurolog
 ical event that may well be the most complex event known to science. A
 s a biologically evolved system\, dreaming long predates the evolution
  of human language.<br><br>\n<br><br>\nIn this presentation\, I will
  parse out one of the ten lines of evidence that argues that human lan
 guage evolved &quot\;down&quot\; from the complexity of dreaming\, and
  not &quot\;up&quot\; from a simpler biological system.
URL:https://www.physics.wisc.edu/events/?id=2987
END:VEVENT
END:VCALENDAR
