BEGIN:VCALENDAR
VERSION:2.0
CALSCALE:GREGORIAN
PRODID:UW-Madison-Physics-Events
BEGIN:VEVENT
SEQUENCE:0
UID:UW-Physics-Event-2992
DTSTART:20130927T203000Z
DURATION:PT1H0M0S
DTSTAMP:20260419T211919Z
LAST-MODIFIED:20130909T220005Z
LOCATION:2241 Chamberlin Hall (coffee at 4:30 pm)
SUMMARY:Topological Phases in Correlated Materials\, Physics Departmen
 t Colloquium\, Yong-Baek Kim\, University of Toronto
DESCRIPTION:Recently there have been significant theoretical and exper
 imental efforts to understand and identify the so-called topological p
 hases of matter in interacting electron systems. These topological pha
 ses may be characterized by different kinds of topological properties 
 such as non-trivial edge/surface states and/or unusual elementary exci
 tations in the bulk or surface. Notable examples include quantum spin 
 liquids\, topological insulators\, and other closely related phases.  
 One of the main challenges is to come up with theoretical criteria tha
 t can be used to identify or predict correlated materials that hold pr
 omise for the emergence of such topological phases. We discuss recent 
 theoretical and experimental developments in this direction\, along wi
 th a brief introduction to some of the proposed topological phases. In
  particular\, we focus on correlated materials with strong spin-orbit 
 coupling and/or near a metal-insulator transition.
URL:https://www.physics.wisc.edu/events/?id=2992
END:VEVENT
END:VCALENDAR
