BEGIN:VCALENDAR
VERSION:2.0
CALSCALE:GREGORIAN
PRODID:UW-Madison-Physics-Events
BEGIN:VEVENT
SEQUENCE:0
UID:UW-Physics-Event-2993
DTSTART:20130426T191500Z
DURATION:PT1H0M0S
DTSTAMP:20260420T020444Z
LAST-MODIFIED:20130422T023543Z
LOCATION:5280 Chamberlin Hall
SUMMARY:On The Way To A Systematic Study of (Radiative) Neutrino Mass 
 Generation\, Theory Seminar (High Energy/Cosmology)\, Michael Schmidt\
 , University of Melbourne
DESCRIPTION:To unravel the mystery of neutrino masses and mixing angle
 s\, we adopt a bottom-up approach based on effective operators which v
 iolate lepton number by 2 units. By opening the effective operators\, 
 we can find the corresponding minimal UV completions. We present an ex
 ample based on a dimension-9 operator and study its neutrino mass gene
 ration and related flavour physics.
URL:https://www.physics.wisc.edu/events/?id=2993
END:VEVENT
END:VCALENDAR
