BEGIN:VCALENDAR
VERSION:2.0
CALSCALE:GREGORIAN
PRODID:UW-Madison-Physics-Events
BEGIN:VEVENT
SEQUENCE:0
UID:UW-Physics-Event-2994
DTSTART:20130424T203000Z
DTEND:20130424T213000Z
DTSTAMP:20260420T004912Z
LAST-MODIFIED:20130319T185442Z
LOCATION:2124 Chamberlin
SUMMARY:Becoming a Professor\, Careers for Physicists\, Segev BenZvi a
 nd Naoko Kurahashi Neilson\, UW-Madison
DESCRIPTION:How do you apply for faculty positions? How do you get int
 erviews? What are faculty interviews like?  If you ever wondered about
  how one gets interviews and faculty positions\, come join us for this
  panel discussion on academic job application and interviewing.  Postd
 ocs currently undergoing the application and interview processes will 
 discuss what their experiences have been like.
URL:https://www.physics.wisc.edu/events/?id=2994
END:VEVENT
END:VCALENDAR
