BEGIN:VCALENDAR
VERSION:2.0
CALSCALE:GREGORIAN
PRODID:UW-Madison-Physics-Events
BEGIN:VEVENT
SEQUENCE:0
UID:UW-Physics-Event-3004
DTSTART:20130424T180000Z
DTEND:20130424T190000Z
DTSTAMP:20260420T020726Z
LAST-MODIFIED:20130404T154532Z
LOCATION:4421 Sterling Hall
SUMMARY:The Galactic Magnetic Field\, SPECIAL TALK\, Glennys Farrar\, 
 New York University
DESCRIPTION:
URL:https://www.physics.wisc.edu/events/?id=3004
END:VEVENT
END:VCALENDAR
