BEGIN:VCALENDAR
VERSION:2.0
CALSCALE:GREGORIAN
PRODID:UW-Madison-Physics-Events
BEGIN:VEVENT
SEQUENCE:0
UID:UW-Physics-Event-3007
DTSTART:20130430T170500Z
DURATION:PT1H0M0S
DTSTAMP:20260420T005227Z
LAST-MODIFIED:20130405T161008Z
LOCATION:4274 Chamberlin (refreshments will be served)
SUMMARY:Aldo Leopold\, phenology and climate change\, Chaos & Complex 
 Systems Seminar\, Stan Temple\, Nelson Institute
DESCRIPTION:Aldo Leopold\, best known as the author of A Sand County A
 lmanac\, was a keen observer of the natural world. Throughout his life
  he kept daily journals recording observations of seasonal events\, es
 pecially those occurring at his beloved "shack" on the Leopold farm wh
 ich was the setting for many essays in A Sand County Almanac. Leopold'
 s meticulous phenological observations have provided us with an unpara
 lleled record of when plants bloomed\, birds migrated and other natura
 l events. Analyzing his historical observations of hundreds of natural
  events as well as recent records helps us understand how climate chan
 ge is affecting the ecological community.
URL:https://www.physics.wisc.edu/events/?id=3007
END:VEVENT
END:VCALENDAR
