BEGIN:VCALENDAR
VERSION:2.0
CALSCALE:GREGORIAN
PRODID:UW-Madison-Physics-Events
BEGIN:VEVENT
SEQUENCE:0
UID:UW-Physics-Event-3017
DTSTART:20130515T210000Z
DURATION:PT1H0M0S
DTSTAMP:20260419T225534Z
LAST-MODIFIED:20130513T003932Z
LOCATION:5280 Chamberlin Hall
SUMMARY:Vector-like Fermions and the Electroweak Phase Transition\, Th
 eory Seminar (High Energy/Cosmology)\, Eduardo PontÃ³n\, Columbia Un
 iversity
DESCRIPTION:
URL:https://www.physics.wisc.edu/events/?id=3017
END:VEVENT
END:VCALENDAR
