BEGIN:VCALENDAR
VERSION:2.0
CALSCALE:GREGORIAN
PRODID:UW-Madison-Physics-Events
BEGIN:VEVENT
SEQUENCE:0
UID:UW-Physics-Event-3020
DTSTART:20130510T163000Z
DURATION:PT1H0M0S
DTSTAMP:20260419T225524Z
LAST-MODIFIED:20130503T154037Z
LOCATION:Courtyard Between Chamberlin and Sterling
SUMMARY:Senior Sendoff Pizza Party
DESCRIPTION:
URL:https://www.physics.wisc.edu/events/?id=3020
END:VEVENT
END:VCALENDAR
