BEGIN:VCALENDAR
VERSION:2.0
CALSCALE:GREGORIAN
PRODID:UW-Madison-Physics-Events
BEGIN:VEVENT
SEQUENCE:0
UID:UW-Physics-Event-3028
DTSTART:20140411T203000Z
DURATION:PT1H0M0S
DTSTAMP:20260419T193825Z
LAST-MODIFIED:20140407T134617Z
LOCATION:2241 Chamberlin Hall (coffee at 4:30 pm)
SUMMARY:Liquid Metal Dynamos : GEO/Astrophysics in the Lab\, Physics D
 epartment Colloquium\, Jean-FranÃ§ois Pinton\, Ã‰cole normale sup
 Ã©rieure de Lyon\, CNRS
DESCRIPTION:The dynamo\, a conversion of kinetic energy into magnetic 
 energy in planets and stars is a fascinating puzzle\, full of surprise
 s. I will review some progress (and many more questions!) after over 1
 5 years of lab experiments using liquid metals. 
URL:https://www.physics.wisc.edu/events/?id=3028
END:VEVENT
END:VCALENDAR
