BEGIN:VCALENDAR
VERSION:2.0
CALSCALE:GREGORIAN
PRODID:UW-Madison-Physics-Events
BEGIN:VEVENT
SEQUENCE:0
UID:UW-Physics-Event-3030
DTSTART:20131011T190000Z
DURATION:PT1H0M0S
DTSTAMP:20260419T212038Z
LAST-MODIFIED:20131003T160322Z
LOCATION:5280 Chamberlin Hall
SUMMARY:The Higgs Boson in the Golden Channel\, Theory Seminar (High E
 nergy/Cosmology)\, Jamie Gainer\, University of Florida
DESCRIPTION:The "Golden Channel"\, in which the Higgs decays to four l
 eptons via intermediate Z bosons\, has played an important role in the
  discovery of the Higgs and in early measurements of its properties.  
 I review the discovery of the Higgs in this channel and describe ongoi
 ng efforts to use this channel to measure Higgs couplings to Z bosons.
URL:https://www.physics.wisc.edu/events/?id=3030
END:VEVENT
END:VCALENDAR
