BEGIN:VCALENDAR
VERSION:2.0
CALSCALE:GREGORIAN
PRODID:UW-Madison-Physics-Events
BEGIN:VEVENT
SEQUENCE:0
UID:UW-Physics-Event-3033
DTSTART:20131108T213000Z
DURATION:PT1H0M0S
DTSTAMP:20260419T211907Z
LAST-MODIFIED:20131104T153253Z
LOCATION:2241 Chamberlin Hall (coffee at 4:30 pm)
SUMMARY:Higgs Boson Discovery: What's Next?\, Physics Department Collo
 quium\, Marcela Carena\, Fermilab & Kavli Institute for Cosmological P
 hysics
DESCRIPTION:The ATLAS and CMS experiments at the Large Hadron Collider
  at CERN have recently discovered a new particle\, that has properties
  consistent with those of a  Higgs boson associated with the mechanism
  that generates the mass of all the fundamental particles in nature. S
 uch a discovery poses questions that may point towards new physics bey
 ond the Standard Model of particle physics\, and may shed light to som
 e of the most fundamental questions of science: The unication of all t
 he forces\; the explanation of the matter-antimatter asymmetry of the 
 universe\; and the nature and origin of dark matter. I will discuss th
 e interpretation of the latest experimental results relevant for Higgs
  physics both within the Standard Model and in its extension through a
 n enhanced symmetry of nature\, called "Supersymmetry".
URL:https://www.physics.wisc.edu/events/?id=3033
END:VEVENT
END:VCALENDAR
