BEGIN:VCALENDAR
VERSION:2.0
CALSCALE:GREGORIAN
PRODID:UW-Madison-Physics-Events
BEGIN:VEVENT
SEQUENCE:0
UID:UW-Physics-Event-3036
DTSTART:20130920T190000Z
DURATION:PT1H0M0S
DTSTAMP:20260419T211733Z
LAST-MODIFIED:20130914T155538Z
LOCATION:5280 Chamberlin Hall
SUMMARY:Yunified GUTS: MSSM at Large tanb\, Theory Seminar (High Energ
 y/Cosmology)\, Archana Anandakrishnan\, Ohio State University
DESCRIPTION:I will talk about the consequences of gauge and third fami
 ly Yukawa coupling unification for the LHC. In a recent work\, we anal
 yzed a Yukawa unified supersymmetric grand unified theory (GUT) with n
 on-universal Higgs masses defined at the GUT scale. We performed a glo
 bal fit using 11 observables\, including the Higgs boson mass (arXiv:1
 212.0542). Gluinos should be visible at the LHC in the 14 TeV run but 
 they cannot be described by the typical simplified models (arXiv1307.7
 723). I will also describe a complete three family model and discuss t
 he quality of the global chi^2 fit to 35 observables. In addition\, I 
 will discuss work with a new set of boundary conditions that is consis
 tent with Yukawa unification at the GUT scale (arXiv:1303.5125).
URL:https://www.physics.wisc.edu/events/?id=3036
END:VEVENT
END:VCALENDAR
