BEGIN:VCALENDAR
VERSION:2.0
CALSCALE:GREGORIAN
PRODID:UW-Madison-Physics-Events
BEGIN:VEVENT
SEQUENCE:0
UID:UW-Physics-Event-3042
DTSTART:20130816T183000Z
DURATION:PT1H0M0S
DTSTAMP:20260419T212042Z
LAST-MODIFIED:20130814T185104Z
LOCATION:5310 Chamberlin Hall
SUMMARY:Thermal Kinetic Inductance Detectors for X-ray Spectroscopy\, 
 NPAC (Nuclear/Particle/Astro/Cosmo) Forum\, Dr. Thomas Cecil\, Argonne
  National Laboratories
DESCRIPTION:Since their introduction ten years ago\, microwave kinetic
  inductance detectors (MKIDs) have been examined for applications rang
 ing from the far infrared to gamma rays. Although these detectors have
  been shown to work with x-rays\, several technical challenges have pr
 evented their widespread use. At Argonne\, we are developing thermal k
 inetic inductance detectors (TKIDs)\, a variation of the MKID in which
  the superconducting inductance serves as sensitive thermometer. In th
 is talk I will provide a general overview MKIDs and introduce the conc
 ept of TKIDs. I will discuss our ongoing research into TKIDs\, includi
 ng device theory\, thermal modeling\, and device fabrication. Finally\
 , I will discuss possible applications for TKIDs in X-ray spectroscopy
 .
URL:https://www.physics.wisc.edu/events/?id=3042
END:VEVENT
END:VCALENDAR
