BEGIN:VCALENDAR
VERSION:2.0
CALSCALE:GREGORIAN
PRODID:UW-Madison-Physics-Events
BEGIN:VEVENT
SEQUENCE:0
UID:UW-Physics-Event-3046
DTSTART:20130927T190000Z
DURATION:PT1H0M0S
DTSTAMP:20260419T212041Z
LAST-MODIFIED:20130914T155754Z
LOCATION:5280 Chamberlin Hall
SUMMARY:Triangle Anomaly in Quark-Gluon Plasma : Chiral Magnetic Wave\
 , Theory Seminar (High Energy/Cosmology)\, Ho-Ung Yee\, UIC/RIKEN-BNL
DESCRIPTION:Although the effects of triangle anomaly (chiral anomaly) 
 in the chiral effective theory at low temperature are completely accou
 nted for by the Wess-Zumino-Witten action\, the physics of triangle an
 omaly at finite temperature\, deconfined phase of QCD is richer and de
 pends more on the dynamics of the theory. We discuss recently discover
 ed new hydrodynamic effects originating from triangle anomaly\, Chiral
  Magnetic Effect and Chiral Magnetic Wave\, from several different the
 oretical viewpoints.
URL:https://www.physics.wisc.edu/events/?id=3046
END:VEVENT
END:VCALENDAR
