BEGIN:VCALENDAR
VERSION:2.0
CALSCALE:GREGORIAN
PRODID:UW-Madison-Physics-Events
BEGIN:VEVENT
SEQUENCE:0
UID:UW-Physics-Event-3054
DTSTART:20131001T170500Z
DURATION:PT1H0M0S
DTSTAMP:20260419T212050Z
LAST-MODIFIED:20130830T140306Z
LOCATION:4274 Chamberlin (refreshments will be served)
SUMMARY:Aging and delayed aging by caloric restriction\, Chaos & Compl
 ex Systems Seminar\, Rozalyn Anderson\, UW School of Medicine and Publ
 ic Health
DESCRIPTION:Biology of aging research provides insights into the molec
 ular and cellular aspects of the aging process and the factors contrib
 uting to the increase in disease vulnerability observed with advancing
  age. Caloric restriction (CR) without malnutrition delays aging and e
 xtends lifespan in diverse species. In exploring CRaEuroTMs mechanisms
  we stand to gain a unique perspective on the biology of aging\, inclu
 ding the complex nature of its underlying regulatory processes.
URL:https://www.physics.wisc.edu/events/?id=3054
END:VEVENT
END:VCALENDAR
