BEGIN:VCALENDAR
VERSION:2.0
CALSCALE:GREGORIAN
PRODID:UW-Madison-Physics-Events
BEGIN:VEVENT
SEQUENCE:0
UID:UW-Physics-Event-3057
DTSTART:20131015T170500Z
DURATION:PT1H0M0S
DTSTAMP:20260419T212157Z
LAST-MODIFIED:20130829T202541Z
LOCATION:4274 Chamberlin (refreshments will be served)
SUMMARY:From here to there:  From neuroscience of the human  brain to 
 complex system realities in  every day human life \, Chaos & Complex S
 ystems Seminar\, Bernard Z. Friedlander\, Department of Psychology\, U
 niversity of Hartford\, West Hartford\, CT
DESCRIPTION:Can we adapt burgeoning progress in neurocellular electroc
 hemistry to human behavior in the disorderly theaters of real life in 
 which our individual and social narratives unfold?  Can we identify cr
 itical conceptual and practical issues that must be recognized and sol
 ved if we are to reconcile the divergent criteria of explanatory natur
 al sciences and the interpretive sciences of human behavior?
URL:https://www.physics.wisc.edu/events/?id=3057
END:VEVENT
END:VCALENDAR
