BEGIN:VCALENDAR
VERSION:2.0
CALSCALE:GREGORIAN
PRODID:UW-Madison-Physics-Events
BEGIN:VEVENT
SEQUENCE:0
UID:UW-Physics-Event-3081
DTSTART:20131108T200000Z
DURATION:PT1H0M0S
DTSTAMP:20260419T212110Z
LAST-MODIFIED:20130914T155407Z
LOCATION:5280 Chamberlin Hall
SUMMARY:TBA\, Theory Seminar (High Energy/Cosmology)\, Sam McDermott\,
  University of Michigan
DESCRIPTION:
URL:https://www.physics.wisc.edu/events/?id=3081
END:VEVENT
END:VCALENDAR
