BEGIN:VCALENDAR
VERSION:2.0
CALSCALE:GREGORIAN
PRODID:UW-Madison-Physics-Events
BEGIN:VEVENT
SEQUENCE:0
UID:UW-Physics-Event-3084
DTSTART:20130919T213000Z
DURATION:PT1H0M0S
DTSTAMP:20260419T212044Z
LAST-MODIFIED:20130917T155458Z
LOCATION:2241 Chamberlin Hall
SUMMARY:PUMP Meeting\, Prospective Undergraduate Majors in Physics
DESCRIPTION:Are you interested in majoring in Physics?  How about Astr
 onomy?  Wondering what can you do with a Physics Degree?  Come to the 
 Prospective Undergraduate Majors in Physics (PUMP) Meeting to learn mo
 re.<br><br>\n<br><br>\nFood and soda will be provided.<br><br>\n<br
 ><br>\nTopics Include: Why Major in Physics and/or Astronomy\; What C
 an You do with a Physics Degree\; Major Requirements in both majors\; 
 Undergraduate Research Opportunities\; and Tutoring and Mentoring Oppo
 rtunities. 
URL:https://www.physics.wisc.edu/events/?id=3084
END:VEVENT
END:VCALENDAR
