BEGIN:VCALENDAR
VERSION:2.0
CALSCALE:GREGORIAN
PRODID:UW-Madison-Physics-Events
BEGIN:VEVENT
SEQUENCE:0
UID:UW-Physics-Event-3085
DTSTART:20130919T223000Z
DURATION:PT1H0M0S
DTSTAMP:20260419T211907Z
LAST-MODIFIED:20130917T155544Z
LOCATION:B651 Sterling Hall
SUMMARY:Kickoff Meeting\, Garage Physics
DESCRIPTION:Do you have a project that doesn't seem to fit in?  Do you
  want to collaborate with other STEM majors\, but you don't know where
  to come together?  Do you want to learn about &amp\;quot\;making&amp\
 ;quot\; or 3D printing?  Prof. Carlsmith has some room for you.&lt\;br
 &gt\;<br><br>\n&lt\;br&gt\;<br><br>\nThe Garage Physics Kickoff meet
 ing is an opportunity to hear more about this project development spac
 e for Physics students\, faculty and staff.  Prof. Carlsmith has resou
 rces to help Physics community members explore new ideas\, experiments
  and possibilities in the field.&lt\;br&gt\;<br><br>\n
URL:https://www.physics.wisc.edu/events/?id=3085
END:VEVENT
END:VCALENDAR
