BEGIN:VCALENDAR
VERSION:2.0
CALSCALE:GREGORIAN
PRODID:UW-Madison-Physics-Events
BEGIN:VEVENT
SEQUENCE:0
UID:UW-Physics-Event-3086
DTSTART:20131011T203000Z
DURATION:PT1H0M0S
DTSTAMP:20260419T212026Z
LAST-MODIFIED:20131008T141817Z
LOCATION:2241 Chamberlin Hall (coffee at 4:30 pm)
SUMMARY:Understanding the Higgs Boson\, Physics Department Colloquium\
 , Sridhara Dasu\, University of Wisconsin Department of Physics
DESCRIPTION:The July 4th 2012 discovery of a Higgs like Boson is a wat
 ershed event in the field of particle physics.  The discovery of a par
 ticle and a field which is unlike anything else encountered at fundame
 ntal level requires stringent scrutiny. Rapid progress in understandin
 g that discovery has been made with the more than double the data accu
 mulated last year. More careful measurements await the upgrades to the
  accelerator and the experiment.  The latest results from the complete
  data set collected and prospects for future will be discussed in this
  talk.
URL:https://www.physics.wisc.edu/events/?id=3086
END:VEVENT
END:VCALENDAR
