BEGIN:VCALENDAR
VERSION:2.0
CALSCALE:GREGORIAN
PRODID:UW-Madison-Physics-Events
BEGIN:VEVENT
SEQUENCE:0
UID:UW-Physics-Event-3108
DTSTART:20131001T210000Z
DURATION:PT1H0M0S
DTSTAMP:20260419T212033Z
LAST-MODIFIED:20131001T175535Z
LOCATION:Chamberlin 5280
SUMMARY:U(1) Portals into Hidden Sectors\, Theory Seminar (High Energy
 /Cosmology)\, Pablo Soler\, Hong Kong IAS and University of Wisconsin
DESCRIPTION:
URL:https://www.physics.wisc.edu/events/?id=3108
END:VEVENT
END:VCALENDAR
