BEGIN:VCALENDAR
VERSION:2.0
CALSCALE:GREGORIAN
PRODID:UW-Madison-Physics-Events
BEGIN:VEVENT
SEQUENCE:0
UID:UW-Physics-Event-3114
DTSTART:20131023T180000Z
DURATION:PT1H0M0S
DTSTAMP:20260419T212253Z
LAST-MODIFIED:20131022T153217Z
LOCATION:Chamberlin 5280
SUMMARY:Yukawas in F-theory GUTs\, Theory Seminar (High Energy/Cosmolo
 gy)\, Fernando Marchesano\, Instituto de FÄ±sica Teorica\, Madrid
DESCRIPTION:
URL:https://www.physics.wisc.edu/events/?id=3114
END:VEVENT
END:VCALENDAR
