BEGIN:VCALENDAR
VERSION:2.0
CALSCALE:GREGORIAN
PRODID:UW-Madison-Physics-Events
BEGIN:VEVENT
SEQUENCE:0
UID:UW-Physics-Event-3120
DTSTART:20131021T213000Z
DURATION:PT1H0M0S
DTSTAMP:20260419T212054Z
LAST-MODIFIED:20131004T180241Z
LOCATION:Chamberin 5310
SUMMARY:tba\, Condensed Matter Theory Group Seminar\, Dushko Kuzmanovs
 ki\, Physics Department
DESCRIPTION:
URL:https://www.physics.wisc.edu/events/?id=3120
END:VEVENT
END:VCALENDAR
