BEGIN:VCALENDAR
VERSION:2.0
CALSCALE:GREGORIAN
PRODID:UW-Madison-Physics-Events
BEGIN:VEVENT
SEQUENCE:0
UID:UW-Physics-Event-3121
DTSTART:20131028T213000Z
DURATION:PT1H0M0S
DTSTAMP:20260419T211905Z
LAST-MODIFIED:20131025T184642Z
LOCATION:Chamberin 5310
SUMMARY:Raman Scattering as  an Effective Tool to Study the Low-Temper
 ature Properties of Low-Dimensional Quantum Magnets. Theoretical Persp
 ectives.\, Condensed Matter Theory Group Seminar\, Natalia Perkins\, P
 hysics Department
DESCRIPTION:
URL:https://www.physics.wisc.edu/events/?id=3121
END:VEVENT
END:VCALENDAR
