BEGIN:VCALENDAR
VERSION:2.0
CALSCALE:GREGORIAN
PRODID:UW-Madison-Physics-Events
BEGIN:VEVENT
SEQUENCE:0
UID:UW-Physics-Event-3128
DTSTART:20131216T200000Z
DURATION:PT1H0M0S
DTSTAMP:20260419T211852Z
LAST-MODIFIED:20131213T144929Z
LOCATION:5280 Chamberlin Hall
SUMMARY:Electroweak Higgs Boson Production in Association with Three J
 ets (A.K.A. VBF + 1 Jet) at NLO QCD\, Theory Seminar (High Energy/Cosm
 ology)\, Terrance Figy\, The University of Manchester
DESCRIPTION:I will present the computation of the next-to-leading orde
 r (NLO) QCD corrections to electroweak Higgs plus three jet production
  (EW H+3jets) within the Matchbox NLO framework of the Herwig++ event 
 generator.  Both vector boson fusion (VBF) and Higgs-strahlung type co
 ntributions are included along with all interferences.  I will discuss
  features of our Matchbox implementation and show the impact of QCD co
 rrections on kinematic distributions relevant Higgs boson studies at t
 he CERN Large Hadron Collider (LHC).
URL:https://www.physics.wisc.edu/events/?id=3128
END:VEVENT
END:VCALENDAR
