BEGIN:VCALENDAR
VERSION:2.0
CALSCALE:GREGORIAN
PRODID:UW-Madison-Physics-Events
BEGIN:VEVENT
SEQUENCE:0
UID:UW-Physics-Event-3136
DTSTART:20131113T181500Z
DURATION:PT1H0M0S
DTSTAMP:20260419T212256Z
LAST-MODIFIED:20131014T175049Z
LOCATION:5310 Chamberlin Hall
SUMMARY:Department Meeting
DESCRIPTION:
URL:https://www.physics.wisc.edu/events/?id=3136
END:VEVENT
END:VCALENDAR
