BEGIN:VCALENDAR
VERSION:2.0
CALSCALE:GREGORIAN
PRODID:UW-Madison-Physics-Events
BEGIN:VEVENT
SEQUENCE:0
UID:UW-Physics-Event-3139
DTSTART:20131022T210000Z
DURATION:PT1H0M0S
DTSTAMP:20260419T212249Z
LAST-MODIFIED:20131022T145644Z
LOCATION:5280 Chamberlin
SUMMARY:The Many Ways to Galileon Inflation and an Intriguing Window i
 n Parameter Space\, Theory Seminar (High Energy/Cosmology)\, Matteo Fa
 siello\, Case Western Reserve University
DESCRIPTION:Galileon theories enjoy a number of properties that make t
 heir use in inflationary setups particularly compelling. We will illus
 trate how one arrives at a stable and predictive theory of Galileon in
 flation and characterize the predictions of this model. We further sho
 w how a region of the parameter space of the theory is consistent with
  a small bispectrum--large trispectrum configuration.
URL:https://www.physics.wisc.edu/events/?id=3139
END:VEVENT
END:VCALENDAR
