BEGIN:VCALENDAR
VERSION:2.0
CALSCALE:GREGORIAN
PRODID:UW-Madison-Physics-Events
BEGIN:VEVENT
SEQUENCE:0
UID:UW-Physics-Event-3146
DTSTART:20131112T180500Z
DURATION:PT1H0M0S
DTSTAMP:20260419T211911Z
LAST-MODIFIED:20131018T200127Z
LOCATION:4274 Chamberlin (refreshments will be served)
SUMMARY:Tutankhamun's Chariots\, Stunt-Kite Ballet\, and the Exodus (C
 haos Choreography and Modeling)\, Chaos & Complex Systems Seminar\, Be
 la Sandor\, UW Department of Engineering Physics
DESCRIPTION:What might have happened at the Red Sea between Moses and 
 Pharaoh\, if the Exodus story is at least partially true?\n\nWho was
  Pharaoh? What did he drive\, and how\, befitting a super-athletic war
 rior king?\n\nMy discovery process combines diverse methods and tool
 s\, and gives ideas for future work:\n\naEurocent  Analysis of ancie
 nt hardware and art\; chariot replication and field testing for the NO
 VA documentary aEurooeBuilding PharaohaEuroTMs ChariotaEuro (original 
 airing Feb. 6\, 2013).\n\n aEurocent  Statics and dynamics (includin
 g an important abstract concept that Newton missed\, though the ancien
 ts understood it). Modeling structural dynamics and integrity\; time-d
 ependent material behaviors\; sophisticated wheels\, suspensions\, joi
 nts\, and a dual-function anti-roll mechanism.\n\n aEurocent  Chaos 
 choreography in BethellaEuroTMs system of controlling multiple stunt k
 ites\, which are sensitive to small changes in stimulation\; the metho
 d would allow measurements of force vectors at handles and the resulti
 ng agent dynamics.\n\n aEurocent  Chaos choreography in high-speed p
 haraonic war games\, with one person handling two horses and two diffe
 rent weapons in a burst event\; did Pharaoh use this technique in the 
 Exodus scene? Consider a clear view of all handles and corresponding a
 gents.\n\naEurocent  Human factors: Was Pharaoh playing a chaos expe
 riment? \n
URL:https://www.physics.wisc.edu/events/?id=3146
END:VEVENT
END:VCALENDAR
