BEGIN:VCALENDAR
VERSION:2.0
CALSCALE:GREGORIAN
PRODID:UW-Madison-Physics-Events
BEGIN:VEVENT
SEQUENCE:0
UID:UW-Physics-Event-3153
DTSTART:20131106T233000Z
DURATION:PT1H0M0S
DTSTAMP:20260419T212210Z
LAST-MODIFIED:20131101T130612Z
LOCATION:4274 Chamberlin
SUMMARY:Graduate Student Panel\, Physics Club Event
DESCRIPTION:Come hear UW-Madison graduate students in physics\, astron
 omy\, mathematics\, medical physics\, and science education discuss th
 eir experiences leading up to graduate school and their experiences in
  graduate school. Food will be provided.
URL:https://www.physics.wisc.edu/events/?id=3153
END:VEVENT
END:VCALENDAR
