BEGIN:VCALENDAR
VERSION:2.0
CALSCALE:GREGORIAN
PRODID:UW-Madison-Physics-Events
BEGIN:VEVENT
SEQUENCE:0
UID:UW-Physics-Event-3156
DTSTART:20131122T013000Z
DURATION:PT1H0M0S
DTSTAMP:20260419T212055Z
LAST-MODIFIED:20131108T213932Z
LOCATION:Milwaukee Public Museum
SUMMARY:Chasing the Ghost Particle Premiere\, Outreach and Education\,
  Prof Francis Halzen
DESCRIPTION:You are invited to the November 21 premiere of the planeta
 rium show Chasing the Ghost Particle: From the South Pole to the Edge 
 of the Universe\, a 30-minute film about the construction and science 
 of the IceCube Neutrino Observatory.  The premiere and first run of th
 e movie will be held at the Milwaukee Public Museum.<br>\n<br>\nProf
 essor Francis Halzen\, IceCube principal investigator\, will give a sh
 ort introduction starting at 7:30 pm.  The show will take you from the
  outer reaches of the universe to inside the IceCube detector\, some 2
 \,400 meters under the Antarctic ice.<br>\n<br>\nAdmission to the pr
 emiere is free\, but seats are limited.  Reserve yours today by contac
 ting the box office at brushel@mpm.edu or 414-278-6951.<br>\n
URL:https://www.physics.wisc.edu/events/?id=3156
END:VEVENT
END:VCALENDAR
