BEGIN:VCALENDAR
VERSION:2.0
CALSCALE:GREGORIAN
PRODID:UW-Madison-Physics-Events
BEGIN:VEVENT
SEQUENCE:0
UID:UW-Physics-Event-3157
DTSTART:20131108T200000Z
DURATION:PT1H0M0S
DTSTAMP:20260419T212045Z
LAST-MODIFIED:20131107T054219Z
LOCATION:5280 Chamberlin Hall
SUMMARY:Constraining Dark Matter with Background Light\, Theory Semina
 r (High Energy/Cosmology)\, Sam McDermott\, University of Michigan
DESCRIPTION:Photons are generic in final states of dark matter annihil
 ation or decay\, and a wide range of X-ray and gamma ray observations 
 are available to constrain broad classes of dark matter models. In the
  first part of the talk I will survey some robust bounds derived in th
 e context of light decaying dark matter. These bounds are applicable i
 n complete generality\, making no assumptions about background models 
 or underlying astrophysics\, and they can be applied both in model dep
 endent and model independent contexts. In the latter part of the talk\
 , I will discuss some work in progress that focuses on bounds on annih
 ilating dark matter from the isotropic gamma ray background.
URL:https://www.physics.wisc.edu/events/?id=3157
END:VEVENT
END:VCALENDAR
