BEGIN:VCALENDAR
VERSION:2.0
CALSCALE:GREGORIAN
PRODID:UW-Madison-Physics-Events
BEGIN:VEVENT
SEQUENCE:0
UID:UW-Physics-Event-3160
DTSTART:20131111T223000Z
DURATION:PT1H0M0S
DTSTAMP:20260419T212303Z
LAST-MODIFIED:20131111T171526Z
LOCATION:Chamberin 5310
SUMMARY:Topological transport in spin-orbit coupled bosonic Mott insul
 ators\, Condensed Matter Theory Group Seminar\, Clement H. Wong
DESCRIPTION:
URL:https://www.physics.wisc.edu/events/?id=3160
END:VEVENT
END:VCALENDAR
