BEGIN:VCALENDAR
VERSION:2.0
CALSCALE:GREGORIAN
PRODID:UW-Madison-Physics-Events
BEGIN:VEVENT
SEQUENCE:0
UID:UW-Physics-Event-3162
DTSTART:20131120T181500Z
DURATION:PT1H0M0S
DTSTAMP:20260419T212303Z
LAST-MODIFIED:20131120T175837Z
LOCATION:5310 Chamberlin Hall
SUMMARY:Organization Meeting\, Physics Educational Innovation Forum
DESCRIPTION:The PEI Forum is for faculty\, graduate students and staff
  to meet informally to discuss new ideas for teaching physics.  At thi
 s first meeting we will hear about two initiatives in the Dept and mak
 e plans for future meetings:<br>\n1)Social bookmarking to facilitate 
 journal and news reading and discussion in physics classes - why\, how
 \, results - Duncan Carlsmith<br>\n2) A new tool for quantitative ass
 essment of student problem-solving skills - Tor Odden
URL:https://www.physics.wisc.edu/events/?id=3162
END:VEVENT
END:VCALENDAR
