BEGIN:VCALENDAR
VERSION:2.0
CALSCALE:GREGORIAN
PRODID:UW-Madison-Physics-Events
BEGIN:VEVENT
SEQUENCE:0
UID:UW-Physics-Event-3165
DTSTART:20131203T200000Z
DURATION:PT1H0M0S
DTSTAMP:20260419T211904Z
LAST-MODIFIED:20131122T185249Z
LOCATION:5310 Chamberlin Hall 
SUMMARY:Quantum Spin Ice with Rydberg dressed atoms\, Atomic Physics S
 eminar\, Alexander Glaetzle\, University of Innsbruck
DESCRIPTION:We will present a discussion of quantum spin ice\, which r
 epresents a paradigmatic example on how the physics of frustrated magn
 ets is related to gauge theories. The goal is to assemble a system of 
 cold Rydberg atoms and to design interactions that realize a toy model
  of quantum spin ice on a two-dimensional checkerboard lattice. In par
 ticular\, we exploit the strong angular dependence of Van-der-Waals in
 teractions between high angular momentum Rydberg states. Together with
  the possibility of designing step-like potentials using ground state 
 atoms weakly dressed by Rydberg states\, we can implement Abelian gaug
 e theories in a series of geometries\, which could be demonstrated wit
 hin state of the art experiments.
URL:https://www.physics.wisc.edu/events/?id=3165
END:VEVENT
END:VCALENDAR
