BEGIN:VCALENDAR
VERSION:2.0
CALSCALE:GREGORIAN
PRODID:UW-Madison-Physics-Events
BEGIN:VEVENT
SEQUENCE:0
UID:UW-Physics-Event-3167
DTSTART:20131203T200000Z
DURATION:PT1H0M0S
DTSTAMP:20260419T212308Z
LAST-MODIFIED:20131122T185411Z
LOCATION:5310 Chamberlin Hall
SUMMARY:A hybrid Rydberg atom-superconductor quantum interface\, Atomi
 c Physics Seminar\, Jonathan Pritchard\, UW Madison
DESCRIPTION:We propose a quantum interface for creating hybrid entangl
 ement between neutral atom and superconducting qubits. The interface i
 s mediated by coupling superconducting qubits to microwaves\, and micr
 owaves to Rydberg excited single atoms. Fidelity calculations based on
  realistic parameters for an atom located close to a CPW microwave res
 onator\, and a progress report on experimental implementation will be 
 presented. 
URL:https://www.physics.wisc.edu/events/?id=3167
END:VEVENT
END:VCALENDAR
