BEGIN:VCALENDAR
VERSION:2.0
CALSCALE:GREGORIAN
PRODID:UW-Madison-Physics-Events
BEGIN:VEVENT
SEQUENCE:0
UID:UW-Physics-Event-3171
DTSTART:20130227T160000Z
DURATION:PT1H0M0S
DTSTAMP:20260420T004802Z
LAST-MODIFIED:20131126T183306Z
LOCATION:5310 Chamberlin Hall
SUMMARY:Title to be announced \, R. G. Herb Condensed Matter Seminar\,
   Smitha Vishveshwara from  the University of Urbana-Champaign.
DESCRIPTION:
URL:https://www.physics.wisc.edu/events/?id=3171
END:VEVENT
END:VCALENDAR
