BEGIN:VCALENDAR
VERSION:2.0
CALSCALE:GREGORIAN
PRODID:UW-Madison-Physics-Events
BEGIN:VEVENT
SEQUENCE:0
UID:UW-Physics-Event-3175
DTSTART:20131204T213000Z
DURATION:PT1H0M0S
DTSTAMP:20260419T225531Z
LAST-MODIFIED:20131203T143502Z
LOCATION:2103 Chamberlin Hall
SUMMARY:SHINE Medical Technologies\, Career Talk\, Greg Piefer\, CEO\,
  SHINE Medical Technologies
DESCRIPTION:
URL:https://www.physics.wisc.edu/events/?id=3175
END:VEVENT
END:VCALENDAR
