BEGIN:VCALENDAR
VERSION:2.0
CALSCALE:GREGORIAN
PRODID:UW-Madison-Physics-Events
BEGIN:VEVENT
SEQUENCE:0
UID:UW-Physics-Event-3190
DTSTART:20140326T171500Z
DURATION:PT1H0M0S
DTSTAMP:20260419T193427Z
LAST-MODIFIED:20140109T201553Z
LOCATION:5310 Chamberlin Hall
SUMMARY:Department Meeting
DESCRIPTION:
URL:https://www.physics.wisc.edu/events/?id=3190
END:VEVENT
END:VCALENDAR
