BEGIN:VCALENDAR
VERSION:2.0
CALSCALE:GREGORIAN
PRODID:UW-Madison-Physics-Events
BEGIN:VEVENT
SEQUENCE:0
UID:UW-Physics-Event-3222
DTSTART:20140128T180500Z
DURATION:PT1H0M0S
DTSTAMP:20260419T193919Z
LAST-MODIFIED:20140120T000148Z
LOCATION:4274 Chamberlin Hall (refreshments will be served)
SUMMARY:Fractals for kids\, Chaos & Complex Systems Seminar\, Clint Sp
 rott\, UW Department of Physics
DESCRIPTION:This is a tale of how a physics professor at a major resea
 rch university came to write a coloring book for children. What better
  way to learn about fractals than to actually try to draw one by hand?
  I will explain what fractals are\, survey some of the many ways of ma
 king fractal images\, and show lots of pretty (colored) pictures. Suit
 able for all ages.
URL:https://www.physics.wisc.edu/events/?id=3222
END:VEVENT
END:VCALENDAR
