BEGIN:VCALENDAR
VERSION:2.0
CALSCALE:GREGORIAN
PRODID:UW-Madison-Physics-Events
BEGIN:VEVENT
SEQUENCE:0
UID:UW-Physics-Event-3223
DTSTART:20140204T180500Z
DURATION:PT1H0M0S
DTSTAMP:20260419T212209Z
LAST-MODIFIED:20140120T000218Z
LOCATION:4274 Chamberlin Hall (refreshments will be served)
SUMMARY:Predicting fate\, Chaos & Complex Systems Seminar\, Jim Blair\
 , Milton and Edgewood College
DESCRIPTION:Large quantities of agrochemicals are applied to farm fiel
 ds every year.  What happens to them?  How are they transported and tr
 ansformed?  How long do they last in the soil?  How rapidly do they mo
 ve through soil to reach the ground water?  Where do they end up?\n\
 nThis has been studied after the chemicals have been applied.  In this
  talk I will describe the development of a series of laboratory proced
 ures that attempt to predict the environmental fate of new agrochemica
 ls before they are applied.\n\nTopics include:\n\nRadio-labels and
  Liquid Scintillation Counting\nThe Three Faces of Fate\nMaterial Ba
 lance\nDoes History Matter?\nMCPA\, Dow\, and St. Croix\nFactory Fa
 rms and Frankenfoods 
URL:https://www.physics.wisc.edu/events/?id=3223
END:VEVENT
END:VCALENDAR
