BEGIN:VCALENDAR
VERSION:2.0
CALSCALE:GREGORIAN
PRODID:UW-Madison-Physics-Events
BEGIN:VEVENT
SEQUENCE:0
UID:UW-Physics-Event-3227
DTSTART:20140215T190000Z
DURATION:PT1H0M0S
DTSTAMP:20260419T193505Z
LAST-MODIFIED:20140120T000451Z
LOCATION:2103 Chamberlin
SUMMARY:Physics of Dimensions\, Wonders of Physics\, Clint Sprott and 
 colleagues\, UW Department of Physics
DESCRIPTION:The 31st annual presentation of the popular outreach progr
 am for the public. Advanced free tickets are recommended.
URL:https://www.physics.wisc.edu/events/?id=3227
END:VEVENT
END:VCALENDAR
