BEGIN:VCALENDAR
VERSION:2.0
CALSCALE:GREGORIAN
PRODID:UW-Madison-Physics-Events
BEGIN:VEVENT
SEQUENCE:0
UID:UW-Physics-Event-3243
DTSTART:20140311T210000Z
DURATION:PT1H0M0S
DTSTAMP:20260419T194003Z
LAST-MODIFIED:20140206T192425Z
LOCATION:4274 Chamberlin Hall
SUMMARY:Photonic topological insulators and pseudomagnetism\, Faculty 
 Candidate Seminar\, Mikael Rechtsman\, Technion - Israel Institute of 
 Technology
DESCRIPTION:I will present two examples in which aEuro~fictitious fiel
 dsaEuroTM lead to surprising photonic effects that would be difficult 
 (if not impossible) to achieve with real fields.  Firstly\, I will pre
 sent the first observation of the topological protection of light - a 
 aEuro~Photonic Floquet Topological InsulatoraEuroTM [1].  The structur
 e is an array of coupled helical waveguides (the helicity generates a 
 fictitious circularly-polarized electric field that leads to the TI be
 havior).  Second\, I will demonstrate artificial magnetic fields (aEur
 o~pseudomagnetismaEuroTM) in photonic lattices [2]. The pseudomagnetic
  field is generated by inhomogeneously straining the system (thus brea
 king periodicity)\, and leads to photonic Landau levels with very high
  photonic density of states.  Potential applications include robust ph
 otonic devices and strong light-matter interaction over large areas.<b
 r>\n<br>\n[1] Rechtsman\, M. C. et al. Nature 496\, 196aEuro"200 (20
 13).<br>\n<br>\n[2] Rechtsman\, M. C. et al. Nature Photon. 7\, 153a
 Euro"158 (2013).
URL:https://www.physics.wisc.edu/events/?id=3243
END:VEVENT
END:VCALENDAR
