BEGIN:VCALENDAR
VERSION:2.0
CALSCALE:GREGORIAN
PRODID:UW-Madison-Physics-Events
BEGIN:VEVENT
SEQUENCE:0
UID:UW-Physics-Event-3246
DTSTART:20140213T203000Z
DURATION:PT1H0M0S
DTSTAMP:20260419T193604Z
LAST-MODIFIED:20140124T135352Z
LOCATION:4274 Chamberlin Hall
SUMMARY:Hadronic Interaction Models and the Interpretation of Astropar
 ticle Data\, NPAC (Nuclear/Particle/Astro/Cosmo) Forum\, Dimitra Atri\
 , Blue Marble Space Institute of Science
DESCRIPTION:The interpretation of astroparticle data from both ground 
 and space-based instruments depends strongly on the hadronic interacti
 on models underpinning the emission mechanism. I will demonstrate the 
 model dependence using recent observations from the Ooty air shower ar
 ray and Fermi LAT. I will also discuss how the choice of hadronic inte
 raction models could affect the interpretation of neutrino and gamma r
 ay measurements with IceCube and CTA.
URL:https://www.physics.wisc.edu/events/?id=3246
END:VEVENT
END:VCALENDAR
